BEGIN:VCALENDAR
VERSION:2.0
PRODID:-//Seglertreff-Hannover.de - ECPv6.15.20//NONSGML v1.0//EN
CALSCALE:GREGORIAN
METHOD:PUBLISH
X-ORIGINAL-URL:https://seglertreff-hannover.de
X-WR-CALDESC:Veranstaltungen für Seglertreff-Hannover.de
REFRESH-INTERVAL;VALUE=DURATION:PT1H
X-Robots-Tag:noindex
X-PUBLISHED-TTL:PT1H
BEGIN:VTIMEZONE
TZID:Europe/Berlin
BEGIN:DAYLIGHT
TZOFFSETFROM:+0100
TZOFFSETTO:+0200
TZNAME:CEST
DTSTART:20250330T010000
END:DAYLIGHT
BEGIN:STANDARD
TZOFFSETFROM:+0200
TZOFFSETTO:+0100
TZNAME:CET
DTSTART:20251026T010000
END:STANDARD
BEGIN:DAYLIGHT
TZOFFSETFROM:+0100
TZOFFSETTO:+0200
TZNAME:CEST
DTSTART:20260329T010000
END:DAYLIGHT
BEGIN:STANDARD
TZOFFSETFROM:+0200
TZOFFSETTO:+0100
TZNAME:CET
DTSTART:20261025T010000
END:STANDARD
BEGIN:DAYLIGHT
TZOFFSETFROM:+0100
TZOFFSETTO:+0200
TZNAME:CEST
DTSTART:20270328T010000
END:DAYLIGHT
BEGIN:STANDARD
TZOFFSETFROM:+0200
TZOFFSETTO:+0100
TZNAME:CET
DTSTART:20271031T010000
END:STANDARD
END:VTIMEZONE
BEGIN:VEVENT
DTSTART;TZID=Europe/Berlin:20260917T190000
DTEND;TZID=Europe/Berlin:20260917T213000
DTSTAMP:20260423T172543
CREATED:20260210T112014Z
LAST-MODIFIED:20260318T134651Z
UID:1143-1789671600-1789680600@seglertreff-hannover.de
SUMMARY:Vorbereitung zum Absegeln und Berichte von unseren Sommerreisen
DESCRIPTION:Bunter Themenabend: \n\n48. Absegeln neueste Infos und Ideen\n\n          \nhttps://seglertreff-hannover.de/wp-content/uploads/2026/02/WhatsApp-Video-2025-04-07-um-22.56.01_42ad32c7.mp4\n 
URL:https://seglertreff-hannover.de/event/vorbereitung-zum-absegeln-und-berichte-aus-unseren-sommerreisen/
LOCATION:Restaurant VaBene\, Theodor-Heuss-Platz 6\, Hannover\, 30159\, Germany
CATEGORIES:Themenabend
ATTACH;FMTTYPE=image/jpeg:https://seglertreff-hannover.de/wp-content/uploads/2026/02/Ansegeln-04_10_2025.jpg
ORGANIZER;CN="Michael K%C3%B6hler":MAILTO:michael.koehler@seglertreff-hannover.de
END:VEVENT
END:VCALENDAR