BEGIN:VCALENDAR
VERSION:2.0
PRODID:-//Seglertreff-Hannover.de - ECPv6.15.20//NONSGML v1.0//EN
CALSCALE:GREGORIAN
METHOD:PUBLISH
X-ORIGINAL-URL:https://seglertreff-hannover.de
X-WR-CALDESC:Veranstaltungen für Seglertreff-Hannover.de
REFRESH-INTERVAL;VALUE=DURATION:PT1H
X-Robots-Tag:noindex
X-PUBLISHED-TTL:PT1H
BEGIN:VTIMEZONE
TZID:Europe/Berlin
BEGIN:DAYLIGHT
TZOFFSETFROM:+0100
TZOFFSETTO:+0200
TZNAME:CEST
DTSTART:20250330T010000
END:DAYLIGHT
BEGIN:STANDARD
TZOFFSETFROM:+0200
TZOFFSETTO:+0100
TZNAME:CET
DTSTART:20251026T010000
END:STANDARD
BEGIN:DAYLIGHT
TZOFFSETFROM:+0100
TZOFFSETTO:+0200
TZNAME:CEST
DTSTART:20260329T010000
END:DAYLIGHT
BEGIN:STANDARD
TZOFFSETFROM:+0200
TZOFFSETTO:+0100
TZNAME:CET
DTSTART:20261025T010000
END:STANDARD
BEGIN:DAYLIGHT
TZOFFSETFROM:+0100
TZOFFSETTO:+0200
TZNAME:CEST
DTSTART:20270328T010000
END:DAYLIGHT
BEGIN:STANDARD
TZOFFSETFROM:+0200
TZOFFSETTO:+0100
TZNAME:CET
DTSTART:20271031T010000
END:STANDARD
END:VTIMEZONE
BEGIN:VEVENT
DTSTART;TZID=Europe/Berlin:20260716T170000
DTEND;TZID=Europe/Berlin:20260716T190000
DTSTAMP:20260423T142326
CREATED:20260210T103647Z
LAST-MODIFIED:20260210T105615Z
UID:1136-1784221200-1784228400@seglertreff-hannover.de
SUMMARY:Segeln auf dem Maschsee
DESCRIPTION:Die Maschseeschule Nord unterstützt unseren Seglertreff und stellt an diesem Tag extra für uns ihre Jollen zu einem deutlich vergünstigten Preis bereit. Dadurch können wir in einer größeren Gruppe gemeinsam segeln – locker\, offen und mit viel Spaßfaktor. \nEgal ob du das erste Mal auf einer Jolle bist oder seit Jahren segelst: Niemand ist allein unterwegs. Anfänger bekommen immer einen erfahrenen Segler an die Seite\, sodass sich alle wohlfühlen und der Nachmittag für jede Erfahrungsstufe passt.
URL:https://seglertreff-hannover.de/event/segeln-auf-dem-maschsee/
LOCATION:Maschseeschule Nord\, Rudolf-von-Bennigsen-Ufer 1\, Hannover\, 30169\, Germany
CATEGORIES:Special
ATTACH;FMTTYPE=image/jpeg:https://seglertreff-hannover.de/wp-content/uploads/2025/11/IMG_1583-scaled.jpeg
END:VEVENT
END:VCALENDAR