BEGIN:VCALENDAR
VERSION:2.0
PRODID:-//Seglertreff-Hannover.de - ECPv6.15.20//NONSGML v1.0//EN
CALSCALE:GREGORIAN
METHOD:PUBLISH
X-ORIGINAL-URL:https://seglertreff-hannover.de
X-WR-CALDESC:Veranstaltungen für Seglertreff-Hannover.de
REFRESH-INTERVAL;VALUE=DURATION:PT1H
X-Robots-Tag:noindex
X-PUBLISHED-TTL:PT1H
BEGIN:VTIMEZONE
TZID:Europe/Berlin
BEGIN:DAYLIGHT
TZOFFSETFROM:+0100
TZOFFSETTO:+0200
TZNAME:CEST
DTSTART:20250330T010000
END:DAYLIGHT
BEGIN:STANDARD
TZOFFSETFROM:+0200
TZOFFSETTO:+0100
TZNAME:CET
DTSTART:20251026T010000
END:STANDARD
BEGIN:DAYLIGHT
TZOFFSETFROM:+0100
TZOFFSETTO:+0200
TZNAME:CEST
DTSTART:20260329T010000
END:DAYLIGHT
BEGIN:STANDARD
TZOFFSETFROM:+0200
TZOFFSETTO:+0100
TZNAME:CET
DTSTART:20261025T010000
END:STANDARD
BEGIN:DAYLIGHT
TZOFFSETFROM:+0100
TZOFFSETTO:+0200
TZNAME:CEST
DTSTART:20270328T010000
END:DAYLIGHT
BEGIN:STANDARD
TZOFFSETFROM:+0200
TZOFFSETTO:+0100
TZNAME:CET
DTSTART:20271031T010000
END:STANDARD
END:VTIMEZONE
BEGIN:VEVENT
DTSTART;TZID=Europe/Berlin:20261015T190000
DTEND;TZID=Europe/Berlin:20261015T213000
DTSTAMP:20260423T201249
CREATED:20260210T113320Z
LAST-MODIFIED:20260211T171302Z
UID:1161-1792090800-1792099800@seglertreff-hannover.de
SUMMARY:Wintersaison = Aus- und Weiterbildung
DESCRIPTION:Wir wollen über Ausbildungsmöglichkeiten und die neue Führerscheinreform berichten. \nKonsequenzen für Vereine und Verbände und die gewerbliche Ausbildung. \nSicherheit auf dem Wasser – aktuelle Fassung \nGewerbsmäßige Schifffahrt für Kleinboote \n  \n \n \n \n \n 
URL:https://seglertreff-hannover.de/event/wintersaison-aus-und-weiterbildung/
LOCATION:Heimathafen Hannover\, Werftstr. 19\, Hannover\, 30163\, Germany
CATEGORIES:Themenabend
ATTACH;FMTTYPE=image/jpeg:https://seglertreff-hannover.de/wp-content/uploads/2026/02/sicherheit-auf-dem-wasser-1.jpg
END:VEVENT
END:VCALENDAR