BEGIN:VCALENDAR
VERSION:2.0
PRODID:-//Seglertreff-Hannover.de - ECPv6.15.20//NONSGML v1.0//EN
CALSCALE:GREGORIAN
METHOD:PUBLISH
X-WR-CALNAME:Seglertreff-Hannover.de
X-ORIGINAL-URL:https://seglertreff-hannover.de
X-WR-CALDESC:Veranstaltungen für Seglertreff-Hannover.de
REFRESH-INTERVAL;VALUE=DURATION:PT1H
X-Robots-Tag:noindex
X-PUBLISHED-TTL:PT1H
BEGIN:VTIMEZONE
TZID:Europe/Berlin
BEGIN:DAYLIGHT
TZOFFSETFROM:+0100
TZOFFSETTO:+0200
TZNAME:CEST
DTSTART:20250330T010000
END:DAYLIGHT
BEGIN:STANDARD
TZOFFSETFROM:+0200
TZOFFSETTO:+0100
TZNAME:CET
DTSTART:20251026T010000
END:STANDARD
BEGIN:DAYLIGHT
TZOFFSETFROM:+0100
TZOFFSETTO:+0200
TZNAME:CEST
DTSTART:20260329T010000
END:DAYLIGHT
BEGIN:STANDARD
TZOFFSETFROM:+0200
TZOFFSETTO:+0100
TZNAME:CET
DTSTART:20261025T010000
END:STANDARD
BEGIN:DAYLIGHT
TZOFFSETFROM:+0100
TZOFFSETTO:+0200
TZNAME:CEST
DTSTART:20270328T010000
END:DAYLIGHT
BEGIN:STANDARD
TZOFFSETFROM:+0200
TZOFFSETTO:+0100
TZNAME:CET
DTSTART:20271031T010000
END:STANDARD
END:VTIMEZONE
BEGIN:VEVENT
DTSTART;TZID=Europe/Berlin:20260820T180000
DTEND;TZID=Europe/Berlin:20260820T213000
DTSTAMP:20260423T171953
CREATED:20260210T102827Z
LAST-MODIFIED:20260211T170914Z
UID:1130-1787248800-1787261400@seglertreff-hannover.de
SUMMARY:Grillfest beim WSV in Altwarmbüchen
DESCRIPTION:Inzwischen ist der Termin beim WSV schon eine feste Größe in unserem Terminkalender. Es haben sich schon viele Freundschaften und gemeinsame Veranstaltungen ergeben.\n\n\n\n\nWir hoffen auch diese Jahr wieder auf eine große Teilnehmerzahl.
URL:https://seglertreff-hannover.de/event/grillfest-beim-wsv-in-altwarmbuechen/
LOCATION:WSV Isernhagen\, Seestr. 23\, Isernhagen\, 30916\, Germany
CATEGORIES:Klönschnack
ATTACH;FMTTYPE=image/png:https://seglertreff-hannover.de/wp-content/uploads/2026/02/image.png
END:VEVENT
END:VCALENDAR