BEGIN:VCALENDAR
VERSION:2.0
PRODID:-//Seglertreff-Hannover.de - ECPv6.15.20//NONSGML v1.0//EN
CALSCALE:GREGORIAN
METHOD:PUBLISH
X-WR-CALNAME:Seglertreff-Hannover.de
X-ORIGINAL-URL:https://seglertreff-hannover.de
X-WR-CALDESC:Veranstaltungen für Seglertreff-Hannover.de
REFRESH-INTERVAL;VALUE=DURATION:PT1H
X-Robots-Tag:noindex
X-PUBLISHED-TTL:PT1H
BEGIN:VTIMEZONE
TZID:Europe/Berlin
BEGIN:DAYLIGHT
TZOFFSETFROM:+0100
TZOFFSETTO:+0200
TZNAME:CEST
DTSTART:20250330T010000
END:DAYLIGHT
BEGIN:STANDARD
TZOFFSETFROM:+0200
TZOFFSETTO:+0100
TZNAME:CET
DTSTART:20251026T010000
END:STANDARD
BEGIN:DAYLIGHT
TZOFFSETFROM:+0100
TZOFFSETTO:+0200
TZNAME:CEST
DTSTART:20260329T010000
END:DAYLIGHT
BEGIN:STANDARD
TZOFFSETFROM:+0200
TZOFFSETTO:+0100
TZNAME:CET
DTSTART:20261025T010000
END:STANDARD
BEGIN:DAYLIGHT
TZOFFSETFROM:+0100
TZOFFSETTO:+0200
TZNAME:CEST
DTSTART:20270328T010000
END:DAYLIGHT
BEGIN:STANDARD
TZOFFSETFROM:+0200
TZOFFSETTO:+0100
TZNAME:CET
DTSTART:20271031T010000
END:STANDARD
END:VTIMEZONE
BEGIN:VEVENT
DTSTART;TZID=Europe/Berlin:20260513T190000
DTEND;TZID=Europe/Berlin:20260513T213000
DTSTAMP:20260423T125925
CREATED:20260210T095754Z
LAST-MODIFIED:20260318T134213Z
UID:1113-1778698800-1778707800@seglertreff-hannover.de
SUMMARY:Vorberichte zu unseren Törns nach Riga\, Göteborg und Stockholm
DESCRIPTION:Wir wollen dieses Jahr wieder einige Schiffe auf der Ostsee bewegen. Unter anderem organisieren wir Törns nach Göteborg\, Stockholm und einen Etappentörn nach Riga.\nSegeltörn Breege – Riga Bernstein-Route \nSegeltörn Riga-Breege Inselhopping \nÜberführungen und Rückführungen von und nach Göteborg und Stockholm \n   \n 
URL:https://seglertreff-hannover.de/event/vorberichte-zu-unseren-toerns-nach-riga-goeteborg-und-stockholm/
LOCATION:Georgen Terrasse Hannover\, An der Graft 3\, Hannover\, 30167\, Germany
CATEGORIES:Themenabend
ATTACH;FMTTYPE=image/png:https://seglertreff-hannover.de/wp-content/uploads/2026/02/segelroute-rostock-breege-stockholm.png
END:VEVENT
END:VCALENDAR