BEGIN:VCALENDAR
VERSION:2.0
PRODID:-//Seglertreff-Hannover.de - ECPv6.15.20//NONSGML v1.0//EN
CALSCALE:GREGORIAN
METHOD:PUBLISH
X-WR-CALNAME:Seglertreff-Hannover.de
X-ORIGINAL-URL:https://seglertreff-hannover.de
X-WR-CALDESC:Veranstaltungen für Seglertreff-Hannover.de
REFRESH-INTERVAL;VALUE=DURATION:PT1H
X-Robots-Tag:noindex
X-PUBLISHED-TTL:PT1H
BEGIN:VTIMEZONE
TZID:Europe/Berlin
BEGIN:DAYLIGHT
TZOFFSETFROM:+0100
TZOFFSETTO:+0200
TZNAME:CEST
DTSTART:20250330T010000
END:DAYLIGHT
BEGIN:STANDARD
TZOFFSETFROM:+0200
TZOFFSETTO:+0100
TZNAME:CET
DTSTART:20251026T010000
END:STANDARD
BEGIN:DAYLIGHT
TZOFFSETFROM:+0100
TZOFFSETTO:+0200
TZNAME:CEST
DTSTART:20260329T010000
END:DAYLIGHT
BEGIN:STANDARD
TZOFFSETFROM:+0200
TZOFFSETTO:+0100
TZNAME:CET
DTSTART:20261025T010000
END:STANDARD
BEGIN:DAYLIGHT
TZOFFSETFROM:+0100
TZOFFSETTO:+0200
TZNAME:CEST
DTSTART:20270328T010000
END:DAYLIGHT
BEGIN:STANDARD
TZOFFSETFROM:+0200
TZOFFSETTO:+0100
TZNAME:CET
DTSTART:20271031T010000
END:STANDARD
END:VTIMEZONE
BEGIN:VEVENT
DTSTART;TZID=Europe/Berlin:20260424T150000
DTEND;TZID=Europe/Berlin:20260424T180000
DTSTAMP:20260423T113116
CREATED:20260210T095026Z
LAST-MODIFIED:20260420T160136Z
UID:1107-1777042800-1777053600@seglertreff-hannover.de
SUMMARY:Besuch der DGZRS
DESCRIPTION:Nachdem wir im März so viele Informationen von Michael Müller bei unserem Seglertreff in Hannover bekommen haben\, wollen uns auch die Praxis angucken und fahren gemeinsam nach Bremen zur DGzRS.\n\n\n\n\nWir wollen Freitag um 1300 Uhr in Hannover starten. Anschließend gehen wir in Bremen nach gemeinsam etwas essen. \nEntweder wir bilden Fahrgemeinschaften oder wir fahren mit der Bahn nach Bremen. Außerdem habe ich noch ein Angebot mit dem Bus eingeholt.
URL:https://seglertreff-hannover.de/event/besuch-der-dgzrs/
LOCATION:DGZRS-Bremen Rescue\, Werderstrasse 2\, Bremen\, 28199\, Germany
CATEGORIES:Special
ATTACH;FMTTYPE=image/jpeg:https://seglertreff-hannover.de/wp-content/uploads/2026/02/csm_220803_MRCC_17_6d35271049.jpg
END:VEVENT
END:VCALENDAR