BEGIN:VCALENDAR
VERSION:2.0
PRODID:-//Seglertreff-Hannover.de - ECPv6.15.20//NONSGML v1.0//EN
CALSCALE:GREGORIAN
METHOD:PUBLISH
X-WR-CALNAME:Seglertreff-Hannover.de
X-ORIGINAL-URL:https://seglertreff-hannover.de
X-WR-CALDESC:Veranstaltungen für Seglertreff-Hannover.de
REFRESH-INTERVAL;VALUE=DURATION:PT1H
X-Robots-Tag:noindex
X-PUBLISHED-TTL:PT1H
BEGIN:VTIMEZONE
TZID:Europe/Berlin
BEGIN:DAYLIGHT
TZOFFSETFROM:+0100
TZOFFSETTO:+0200
TZNAME:CEST
DTSTART:20250330T010000
END:DAYLIGHT
BEGIN:STANDARD
TZOFFSETFROM:+0200
TZOFFSETTO:+0100
TZNAME:CET
DTSTART:20251026T010000
END:STANDARD
BEGIN:DAYLIGHT
TZOFFSETFROM:+0100
TZOFFSETTO:+0200
TZNAME:CEST
DTSTART:20260329T010000
END:DAYLIGHT
BEGIN:STANDARD
TZOFFSETFROM:+0200
TZOFFSETTO:+0100
TZNAME:CET
DTSTART:20261025T010000
END:STANDARD
BEGIN:DAYLIGHT
TZOFFSETFROM:+0100
TZOFFSETTO:+0200
TZNAME:CEST
DTSTART:20270328T010000
END:DAYLIGHT
BEGIN:STANDARD
TZOFFSETFROM:+0200
TZOFFSETTO:+0100
TZNAME:CET
DTSTART:20271031T010000
END:STANDARD
END:VTIMEZONE
BEGIN:VEVENT
DTSTART;TZID=Europe/Berlin:20260319T190000
DTEND;TZID=Europe/Berlin:20260319T213000
DTSTAMP:20260423T125954
CREATED:20260210T094521Z
LAST-MODIFIED:20260310T211816Z
UID:1101-1773946800-1773955800@seglertreff-hannover.de
SUMMARY:DGZRS - Vormann Michael Müller berichtet!
DESCRIPTION:Die Seenottretter DGZRS! \n \nMichael Müller war lange Vormann der Berlin\, die in Laboe stationiert ist. \n Er hält einen spannenden Vortrag und dann werden wir mit ihm ein Interview führen. Auch für Fragen und Antworten wird genügend Zeit sein.  \nThemengebiete sind: \n\nAlarmierung und Rettung – wi läuft das ab!\nelektronische Alarmierungsverfahren\, z.B. GMDSS (Global Maritime Distress Safety System)\nFehlalamierungen\nWas ist ein Notfall und was nicht!\nKosten für einen Notfall\nAusbildung und Engagement bei den Seenotrettern\n\naktuelle Einsätze \nWir bitten um Spenden an dem Abend. 100 % gehen direkt an die DGZRS \nLink zur 28m Bootsklasse
URL:https://seglertreff-hannover.de/event/dgzrs-einblicke-in-die-ausbildung/
LOCATION:Restaurant VaBene\, Theodor-Heuss-Platz 6\, Hannover\, 30159\, Germany
CATEGORIES:Themenabend
ATTACH;FMTTYPE=image/jpeg:https://seglertreff-hannover.de/wp-content/uploads/2026/02/IMG_2412-scaled.jpeg
END:VEVENT
END:VCALENDAR